Workbook

Sheet 主页

Sheet 收支登记
B1: 收支登记表
B2: 日期 | C2: 月份 | D2: 收/支 | E2: 事项 | F2: 类目 | G2: 金额
B3: 43222 | C3: =IF(B3="","",MONTH(B3)) -> 5 | D3: 收入 | E3: 亲戚给的红包 | F3: 红包 | G3: 1000
B4: 43223 | C4: =IF(B4="","",MONTH(B4)) -> 5 | D4: 收入 | E4: 工资 | F4: 工资 | G4: 5000
C5: =IF(B5="","",MONTH(B5))
C6: =IF(B6="","",MONTH(B6))
C7: =IF(B7="","",MONTH(B7))
C8: =IF(B8="","",MONTH(B8))
C9: =IF(B9="","",MONTH(B9))
C10: =IF(B10="","",MONTH(B10))
C11: =IF(B11="","",MONTH(B11))
C12: =IF(B12="","",MONTH(B12))
C13: =IF(B13="","",MONTH(B13))
C14: =IF(B14="","",MONTH(B14))
C15: =IF(B15="","",MONTH(B15))
C16: =IF(B16="","",MONTH(B16))
... C298: =IF(B298="","",MONTH(B298))

Sheet 收支统计
A1: 收支统计表
A2: 类目名称 | B2: 1月 | C2: 2月 | D2: 3月 | E2: 4月 | F2: 5月 | G2: 6月 | H2: 7月 | I2: 8月 | J2: 9月 | K2: 10月 | L2: 11月 | M2: 12月 | N2: 类目总计
A3: 服饰鞋帽 | B3: =SUMIFS(收支登记!$G:$G,收支登记!$C:$C,"1",收支登记!$F:$F,收支统计!$A3) -> 0 | C3: =SUMIFS(收支登记!$G:$G,收支登记!$C:$C,"2",收支登记!$F:$F,收支统计!$A3) -> 0 | D3: =SUMIFS(收支登记!$G:$G,收支登记!$C:$C,"3",收支登记!$F:$F,收支统计!$A3) -> 0 | E3: =SUMIFS(收支登记!$G:$G,收支登记!$C:$C,"4",收支登记!$F:$F,收支统计!$A3) -> 0 | F3: =SUMIFS(收支登记!$G:$G,收支登记!$C:$C,"5",收支登记!$F:$F,收支统计!$A3) -> 0 | G3: =SUMIFS(收支登记!$G:$G,收支登记!$C:$C,"6",收支登记!$F:$F,收支统计!$A3) -> 0 | H3: =SUMIFS(收支登记!$G:$G,收支登记!$C:$C,"7",收支登记!$F:$F,收支统计!$A3) -> 0 | I3: =SUMIFS(收支登记!$G:$G,收支登记!$C:$C,"8",收支登记!$F:$F,收支统计!$A3) -> 0 | J3: =SUMIFS(收支登记!$G:$G,收支登记!$C:$C,"9",收支登记!$F:$F,收支统计!$A3) -> 0 | K3: =SUMIFS(收支登记!$G:$G,收支登记!$C:$C,"10",收支登记!$F:$F,收支统计!$A3) -> 0 | L3: =SUMIFS(收支登记!$G:$G,收支登记!$C:$C,"11",收支登记!$F:$F,收支统计!$A3) -> 0 | M3: =SUMIFS(收支登记!$G:$G,收支登记!$C:$C,"12",收支登记!$F:$F,收支统计!$A3) -> 0 | N3: =SUM(B3:M3) -> 0
A4: 理发 | B4: =SUMIFS(收支登记!$G:$G,收支登记!$C:$C,"1",收支登记!$F:$F,收支统计!$A4) -> 0 | C4: =SUMIFS(收支登记!$G:$G,收支登记!$C:$C,"2",收支登记!$F:$F,收支统计!$A4) -> 0 | D4: =SUMIFS(收支登记!$G:$G,收支登记!$C:$C,"3",收支登记!$F:$F,收支统计!$A4) -> 0 | E4: =SUMIFS(收支登记!$G:$G,收支登记!$C:$C,"4",收支登记!$F:$F,收支统计!$A4) -> 0 | F4: =SUMIFS(收支登记!$G:$G,收支登记!$C:$C,"5",收支登记!$F:$F,收支统计!$A4) -> 0 | G4: =SUMIFS(收支登记!$G:$G,收支登记!$C:$C,"6",收支登记!$F:$F,收支统计!$A4) -> 0 | H4: =SUMIFS(收支登记!$G:$G,收支登记!$C:$C,"7",收支登记!$F:$F,收支统计!$A4) -> 0 | I4: =SUMIFS(收支登记!$G:$G,收支登记!$C:$C,"8",收支登记!$F:$F,收支统计!$A4) -> 0 | J4: =SUMIFS(收支登记!$G:$G,收支登记!$C:$C,"9",收支登记!$F:$F,收支统计!$A4) -> 0 | K4: =SUMIFS(收支登记!$G:$G,收支登记!$C:$C,"10",收支登记!$F:$F,收支统计!$A4) -> 0 | L4: =SUMIFS(收支登记!$G:$G,收支登记!$C:$C,"11",收支登记!$F:$F,收支统计!$A4) -> 0 | M4: =SUMIFS(收支登记!$G:$G,收支登记!$C:$C,"12",收支登记!$F:$F,收支统计!$A4) -> 0 | N4: =SUM(B4:M4) -> 0
A5: 饰品/小物件 | B5: =SUMIFS(收支登记!$G:$G,收支登记!$C:$C,"1",收支登记!$F:$F,收支统计!$A5) -> 0 | C5: =SUMIFS(收支登记!$G:$G,收支登记!$C:$C,"2",收支登记!$F:$F,收支统计!$A5) -> 0 | D5: =SUMIFS(收支登记!$G:$G,收支登记!$C:$C,"3",收支登记!$F:$F,收支统计!$A5) -> 0 | E5: =SUMIFS(收支登记!$G:$G,收支登记!$C:$C,"4",收支登记!$F:$F,收支统计!$A5) -> 0 | F5: =SUMIFS(收支登记!$G:$G,收支登记!$C:$C,"5",收支登记!$F:$F,收支统计!$A5) -> 0 | G5: =SUMIFS(收支登记!$G:$G,收支登记!$C:$C,"6",收支登记!$F:$F,收支统计!$A5) -> 0 | H5: =SUMIFS(收支登记!$G:$G,收支登记!$C:$C,"7",收支登记!$F:$F,收支统计!$A5) -> 0 | I5: =SUMIFS(收支登记!$G:$G,收支登记!$C:$C,"8",收支登记!$F:$F,收支统计!$A5) -> 0 | J5: =SUMIFS(收支登记!$G:$G,收支登记!$C:$C,"9",收支登记!$F:$F,收支统计!$A5) -> 0 | K5: =SUMIFS(收支登记!$G:$G,收支登记!$C:$C,"10",收支登记!$F:$F,收支统计!$A5) -> 0 | L5: =SUMIFS(收支登记!$G:$G,收支登记!$C:$C,"11",收支登记!$F:$F,收支统计!$A5) -> 0 | M5: =SUMIFS(收支登记!$G:$G,收支登记!$C:$C,"12",收支登记!$F:$F,收支统计!$A5) -> 0 | N5: =SUM(B5:M5) -> 0
A6: 伙食费用 | B6: =SUMIFS(收支登记!$G:$G,收支登记!$C:$C,"1",收支登记!$F:$F,收支统计!$A6) -> 0 | C6: =SUMIFS(收支登记!$G:$G,收支登记!$C:$C,"2",收支登记!$F:$F,收支统计!$A6) -> 0 | D6: =SUMIFS(收支登记!$G:$G,收支登记!$C:$C,"3",收支登记!$F:$F,收支统计!$A6) -> 0 | E6: =SUMIFS(收支登记!$G:$G,收支登记!$C:$C,"4",收支登记!$F:$F,收支统计!$A6) -> 0 | F6: =SUMIFS(收支登记!$G:$G,收支登记!$C:$C,"5",收支登记!$F:$F,收支统计!$A6) -> 0 | G6: =SUMIFS(收支登记!$G:$G,收支登记!$C:$C,"6",收支登记!$F:$F,收支统计!$A6) -> 0 | H6: =SUMIFS(收支登记!$G:$G,收支登记!$C:$C,"7",收支登记!$F:$F,收支统计!$A6) -> 0 | I6: =SUMIFS(收支登记!$G:$G,收支登记!$C:$C,"8",收支登记!$F:$F,收支统计!$A6) -> 0 | J6: =SUMIFS(收支登记!$G:$G,收支登记!$C:$C,"9",收支登记!$F:$F,收支统计!$A6) -> 0 | K6: =SUMIFS(收支登记!$G:$G,收支登记!$C:$C,"10",收支登记!$F:$F,收支统计!$A6) -> 0 | L6: =SUMIFS(收支登记!$G:$G,收支登记!$C:$C,"11",收支登记!$F:$F,收支统计!$A6) -> 0 | M6: =SUMIFS(收支登记!$G:$G,收支登记!$C:$C,"12",收支登记!$F:$F,收支统计!$A6) -> 0 | N6: =SUM(B6:M6) -> 0
A7: 食材采购 | B7: =SUMIFS(收支登记!$G:$G,收支登记!$C:$C,"1",收支登记!$F:$F,收支统计!$A7) -> 0 | C7: =SUMIFS(收支登记!$G:$G,收支登记!$C:$C,"2",收支登记!$F:$F,收支统计!$A7) -> 0 | D7: =SUMIFS(收支登记!$G:$G,收支登记!$C:$C,"3",收支登记!$F:$F,收支统计!$A7) -> 0 | E7: =SUMIFS(收支登记!$G:$G,收支登记!$C:$C,"4",收支登记!$F:$F,收支统计!$A7) -> 0 | F7: =SUMIFS(收支登记!$G:$G,收支登记!$C:$C,"5",收支登记!$F:$F,收支统计!$A7) -> 0 | G7: =SUMIFS(收支登记!$G:$G,收支登记!$C:$C,"6",收支登记!$F:$F,收支统计!$A7) -> 0 | H7: =SUMIFS(收支登记!$G:$G,收支登记!$C:$C,"7",收支登记!$F:$F,收支统计!$A7) -> 0 | I7: =SUMIFS(收支登记!$G:$G,收支登记!$C:$C,"8",收支登记!$F:$F,收支统计!$A7) -> 0 | J7: =SUMIFS(收支登记!$G:$G,收支登记!$C:$C,"9",收支登记!$F:$F,收支统计!$A7) -> 0 | K7: =SUMIFS(收支登记!$G:$G,收支登记!$C:$C,"10",收支登记!$F:$F,收支统计!$A7) -> 0 | L7: =SUMIFS(收支登记!$G:$G,收支登记!$C:$C,"11",收支登记!$F:$F,收支统计!$A7) -> 0 | M7: =SUMIFS(收支登记!$G:$G,收支登记!$C:$C,"12",收支登记!$F:$F,收支统计!$A7) -> 0 | N7: =SUM(B7:M7) -> 0
A8: 零食 | B8: =SUMIFS(收支登记!$G:$G,收支登记!$C:$C,"1",收支登记!$F:$F,收支统计!$A8) -> 0 | C8: =SUMIFS(收支登记!$G:$G,收支登记!$C:$C,"2",收支登记!$F:$F,收支统计!$A8) -> 0 | D8: =SUMIFS(收支登记!$G:$G,收支登记!$C:$C,"3",收支登记!$F:$F,收支统计!$A8) -> 0 | E8: =SUMIFS(收支登记!$G:$G,收支登记!$C:$C,"4",收支登记!$F:$F,收支统计!$A8) -> 0 | F8: =SUMIFS(收支登记!$G:$G,收支登记!$C:$C,"5",收支登记!$F:$F,收支统计!$A8) -> 0 | G8: =SUMIFS(收支登记!$G:$G,收支登记!$C:$C,"6",收支登记!$F:$F,收支统计!$A8) -> 0 | H8: =SUMIFS(收支登记!$G:$G,收支登记!$C:$C,"7",收支登记!$F:$F,收支统计!$A8) -> 0 | I8: =SUMIFS(收支登记!$G:$G,收支登记!$C:$C,"8",收支登记!$F:$F,收支统计!$A8) -> 0 | J8: =SUMIFS(收支登记!$G:$G,收支登记!$C:$C,"9",收支登记!$F:$F,收支统计!$A8) -> 0 | K8: =SUMIFS(收支登记!$G:$G,收支登记!$C:$C,"10",收支登记!$F:$F,收支统计!$A8) -> 0 | L8: =SUMIFS(收支登记!$G:$G,收支登记!$C:$C,"11",收支登记!$F:$F,收支统计!$A8) -> 0 | M8: =SUMIFS(收支登记!$G:$G,收支登记!$C:$C,"12",收支登记!$F:$F,收支统计!$A8) -> 0 | N8: =SUM(B8:M8) -> 0
A9: 房贷 | B9: =SUMIFS(收支登记!$G:$G,收支登记!$C:$C,"1",收支登记!$F:$F,收支统计!$A9) -> 0 | C9: =SUMIFS(收支登记!$G:$G,收支登记!$C:$C,"2",收支登记!$F:$F,收支统计!$A9) -> 0 | D9: =SUMIFS(收支登记!$G:$G,收支登记!$C:$C,"3",收支登记!$F:$F,收支统计!$A9) -> 0 | E9: =SUMIFS(收支登记!$G:$G,收支登记!$C:$C,"4",收支登记!$F:$F,收支统计!$A9) -> 0 | F9: =SUMIFS(收支登记!$G:$G,收支登记!$C:$C,"5",收支登记!$F:$F,收支统计!$A9) -> 0 | G9: =SUMIFS(收支登记!$G:$G,收支登记!$C:$C,"6",收支登记!$F:$F,收支统计!$A9) -> 0 | H9: =SUMIFS(收支登记!$G:$G,收支登记!$C:$C,"7",收支登记!$F:$F,收支统计!$A9) -> 0 | I9: =SUMIFS(收支登记!$G:$G,收支登记!$C:$C,"8",收支登记!$F:$F,收支统计!$A9) -> 0 | J9: =SUMIFS(收支登记!$G:$G,收支登记!$C:$C,"9",收支登记!$F:$F,收支统计!$A9) -> 0 | K9: =SUMIFS(收支登记!$G:$G,收支登记!$C:$C,"10",收支登记!$F:$F,收支统计!$A9) -> 0 | L9: =SUMIFS(收支登记!$G:$G,收支登记!$C:$C,"11",收支登记!$F:$F,收支统计!$A9) -> 0 | M9: =SUMIFS(收支登记!$G:$G,收支登记!$C:$C,"12",收支登记!$F:$F,收支统计!$A9) -> 0 | N9: =SUM(B9:M9) -> 0
A10: 物管费 | B10: =SUMIFS(收支登记!$G:$G,收支登记!$C:$C,"1",收支登记!$F:$F,收支统计!$A10) -> 0 | C10: =SUMIFS(收支登记!$G:$G,收支登记!$C:$C,"2",收支登记!$F:$F,收支统计!$A10) -> 0 | D10: =SUMIFS(收支登记!$G:$G,收支登记!$C:$C,"3",收支登记!$F:$F,收支统计!$A10) -> 0 | E10: =SUMIFS(收支登记!$G:$G,收支登记!$C:$C,"4",收支登记!$F:$F,收支统计!$A10) -> 0 | F10: =SUMIFS(收支登记!$G:$G,收支登记!$C:$C,"5",收支登记!$F:$F,收支统计!$A10) -> 0 | G10: =SUMIFS(收支登记!$G:$G,收支登记!$C:$C,"6",收支登记!$F:$F,收支统计!$A10) -> 0 | H10: =SUMIFS(收支登记!$G:$G,收支登记!$C:$C,"7",收支登记!$F:$F,收支统计!$A10) -> 0 | I10: =SUMIFS(收支登记!$G:$G,收支登记!$C:$C,"8",收支登记!$F:$F,收支统计!$A10) -> 0 | J10: =SUMIFS(收支登记!$G:$G,收支登记!$C:$C,"9",收支登记!$F:$F,收支统计!$A10) -> 0 | K10: =SUMIFS(收支登记!$G:$G,收支登记!$C:$C,"10",收支登记!$F:$F,收支统计!$A10) -> 0 | L10: =SUMIFS(收支登记!$G:$G,收支登记!$C:$C,"11",收支登记!$F:$F,收支统计!$A10) -> 0 | M10: =SUMIFS(收支登记!$G:$G,收支登记!$C:$C,"12",收支登记!$F:$F,收支统计!$A10) -> 0 | N10: =SUM(B10:M10) -> 0
A11: 手机费 | B11: =SUMIFS(收支登记!$G:$G,收支登记!$C:$C,"1",收支登记!$F:$F,收支统计!$A11) -> 0 | C11: =SUMIFS(收支登记!$G:$G,收支登记!$C:$C,"2",收支登记!$F:$F,收支统计!$A11) -> 0 | D11: =SUMIFS(收支登记!$G:$G,收支登记!$C:$C,"3",收支登记!$F:$F,收支统计!$A11) -> 0 | E11: =SUMIFS(收支登记!$G:$G,收支登记!$C:$C,"4",收支登记!$F:$F,收支统计!$A11) -> 0 | F11: =SUMIFS(收支登记!$G:$G,收支登记!$C:$C,"5",收支登记!$F:$F,收支统计!$A11) -> 0 | G11: =SUMIFS(收支登记!$G:$G,收支登记!$C:$C,"6",收支登记!$F:$F,收支统计!$A11) -> 0 | H11: =SUMIFS(收支登记!$G:$G,收支登记!$C:$C,"7",收支登记!$F:$F,收支统计!$A11) -> 0 | I11: =SUMIFS(收支登记!$G:$G,收支登记!$C:$C,"8",收支登记!$F:$F,收支统计!$A11) -> 0 | J11: =SUMIFS(收支登记!$G:$G,收支登记!$C:$C,"9",收支登记!$F:$F,收支统计!$A11) -> 0 | K11: =SUMIFS(收支登记!$G:$G,收支登记!$C:$C,"10",收支登记!$F:$F,收支统计!$A11) -> 0 | L11: =SUMIFS(收支登记!$G:$G,收支登记!$C:$C,"11",收支登记!$F:$F,收支统计!$A11) -> 0 | M11: =SUMIFS(收支登记!$G:$G,收支登记!$C:$C,"12",收支登记!$F:$F,收支统计!$A11) -> 0 | N11: =SUM(B11:M11) -> 0
A12: 水费 | B12: =SUMIFS(收支登记!$G:$G,收支登记!$C:$C,"1",收支登记!$F:$F,收支统计!$A12) -> 0 | C12: =SUMIFS(收支登记!$G:$G,收支登记!$C:$C,"2",收支登记!$F:$F,收支统计!$A12) -> 0 | D12: =SUMIFS(收支登记!$G:$G,收支登记!$C:$C,"3",收支登记!$F:$F,收支统计!$A12) -> 0 | E12: =SUMIFS(收支登记!$G:$G,收支登记!$C:$C,"4",收支登记!$F:$F,收支统计!$A12) -> 0 | F12: =SUMIFS(收支登记!$G:$G,收支登记!$C:$C,"5",收支登记!$F:$F,收支统计!$A12) -> 0 | G12: =SUMIFS(收支登记!$G:$G,收支登记!$C:$C,"6",收支登记!$F:$F,收支统计!$A12) -> 0 | H12: =SUMIFS(收支登记!$G:$G,收支登记!$C:$C,"7",收支登记!$F:$F,收支统计!$A12) -> 0 | I12: =SUMIFS(收支登记!$G:$G,收支登记!$C:$C,"8",收支登记!$F:$F,收支统计!$A12) -> 0 | J12: =SUMIFS(收支登记!$G:$G,收支登记!$C:$C,"9",收支登记!$F:$F,收支统计!$A12) -> 0 | K12: =SUMIFS(收支登记!$G:$G,收支登记!$C:$C,"10",收支登记!$F:$F,收支统计!$A12) -> 0 | L12: =SUMIFS(收支登记!$G:$G,收支登记!$C:$C,"11",收支登记!$F:$F,收支统计!$A12) -> 0 | M12: =SUMIFS(收支登记!$G:$G,收支登记!$C:$C,"12",收支登记!$F:$F,收支统计!$A12) -> 0 | N12: =SUM(B12:M12) -> 0
A13: 电费 | B13: =SUMIFS(收支登记!$G:$G,收支登记!$C:$C,"1",收支登记!$F:$F,收支统计!$A13) -> 0 | C13: =SUMIFS(收支登记!$G:$G,收支登记!$C:$C,"2",收支登记!$F:$F,收支统计!$A13) -> 0 | D13: =SUMIFS(收支登记!$G:$G,收支登记!$C:$C,"3",收支登记!$F:$F,收支统计!$A13) -> 0 | E13: =SUMIFS(收支登记!$G:$G,收支登记!$C:$C,"4",收支登记!$F:$F,收支统计!$A13) -> 0 | F13: =SUMIFS(收支登记!$G:$G,收支登记!$C:$C,"5",收支登记!$F:$F,收支统计!$A13) -> 0 | G13: =SUMIFS(收支登记!$G:$G,收支登记!$C:$C,"6",收支登记!$F:$F,收支统计!$A13) -> 0 | H13: =SUMIFS(收支登记!$G:$G,收支登记!$C:$C,"7",收支登记!$F:$F,收支统计!$A13) -> 0 | I13: =SUMIFS(收支登记!$G:$G,收支登记!$C:$C,"8",收支登记!$F:$F,收支统计!$A13) -> 0 | J13: =SUMIFS(收支登记!$G:$G,收支登记!$C:$C,"9",收支登记!$F:$F,收支统计!$A13) -> 0 | K13: =SUMIFS(收支登记!$G:$G,收支登记!$C:$C,"10",收支登记!$F:$F,收支统计!$A13) -> 0 | L13: =SUMIFS(收支登记!$G:$G,收支登记!$C:$C,"11",收支登记!$F:$F,收支统计!$A13) -> 0 | M13: =SUMIFS(收支登记!$G:$G,收支登记!$C:$C,"12",收支登记!$F:$F,收支统计!$A13) -> 0 | N13: =SUM(B13:M13) -> 0
A14: 煤气费 | B14: =SUMIFS(收支登记!$G:$G,收支登记!$C:$C,"1",收支登记!$F:$F,收支统计!$A14) -> 0 | C14: =SUMIFS(收支登记!$G:$G,收支登记!$C:$C,"2",收支登记!$F:$F,收支统计!$A14) -> 0 | D14: =SUMIFS(收支登记!$G:$G,收支登记!$C:$C,"3",收支登记!$F:$F,收支统计!$A14) -> 0 | E14: =SUMIFS(收支登记!$G:$G,收支登记!$C:$C,"4",收支登记!$F:$F,收支统计!$A14) -> 0 | F14: =SUMIFS(收支登记!$G:$G,收支登记!$C:$C,"5",收支登记!$F:$F,收支统计!$A14) -> 0 | G14: =SUMIFS(收支登记!$G:$G,收支登记!$C:$C,"6",收支登记!$F:$F,收支统计!$A14) -> 0 | H14: =SUMIFS(收支登记!$G:$G,收支登记!$C:$C,"7",收支登记!$F:$F,收支统计!$A14) -> 0 | I14: =SUMIFS(收支登记!$G:$G,收支登记!$C:$C,"8",收支登记!$F:$F,收支统计!$A14) -> 0 | J14: =SUMIFS(收支登记!$G:$G,收支登记!$C:$C,"9",收支登记!$F:$F,收支统计!$A14) -> 0 | K14: =SUMIFS(收支登记!$G:$G,收支登记!$C:$C,"10",收支登记!$F:$F,收支统计!$A14) -> 0 | L14: =SUMIFS(收支登记!$G:$G,收支登记!$C:$C,"11",收支登记!$F:$F,收支统计!$A14) -> 0 | M14: =SUMIFS(收支登记!$G:$G,收支登记!$C:$C,"12",收支登记!$F:$F,收支统计!$A14) -> 0 | N14: =SUM(B14:M14) -> 0
... A39: 红包 | B39: =SUMIFS(收支登记!$G:$G,收支登记!$C:$C,"1",收支登记!$F:$F,收支统计!$A39) -> 0 | C39: =SUMIFS(收支登记!$G:$G,收支登记!$C:$C,"2",收支登记!$F:$F,收支统计!$A39) -> 0 | D39: =SUMIFS(收支登记!$G:$G,收支登记!$C:$C,"3",收支登记!$F:$F,收支统计!$A39) -> 0 | E39: =SUMIFS(收支登记!$G:$G,收支登记!$C:$C,"4",收支登记!$F:$F,收支统计!$A39) -> 0 | F39: =SUMIFS(收支登记!$G:$G,收支登记!$C:$C,"5",收支登记!$F:$F,收支统计!$A39) -> 1000 | G39: =SUMIFS(收支登记!$G:$G,收支登记!$C:$C,"6",收支登记!$F:$F,收支统计!$A39) -> 0 | H39: =SUMIFS(收支登记!$G:$G,收支登记!$C:$C,"7",收支登记!$F:$F,收支统计!$A39) -> 0 | I39: =SUMIFS(收支登记!$G:$G,收支登记!$C:$C,"8",收支登记!$F:$F,收支统计!$A39) -> 0 | J39: =SUMIFS(收支登记!$G:$G,收支登记!$C:$C,"9",收支登记!$F:$F,收支统计!$A39) -> 0 | K39: =SUMIFS(收支登记!$G:$G,收支登记!$C:$C,"10",收支登记!$F:$F,收支统计!$A39) -> 0 | L39: =SUMIFS(收支登记!$G:$G,收支登记!$C:$C,"11",收支登记!$F:$F,收支统计!$A39) -> 0 | M39: =SUMIFS(收支登记!$G:$G,收支登记!$C:$C,"12",收支登记!$F:$F,收支统计!$A39) -> 0 | N39: =SUM(B39:M39) -> 1000
B40: =SUMIFS(收支登记!$G:$G,收支登记!$C:$C,"1",收支登记!$F:$F,收支统计!$A40) -> 0 | C40: =SUMIFS(收支登记!$G:$G,收支登记!$C:$C,"2",收支登记!$F:$F,收支统计!$A40) -> 0 | D40: =SUMIFS(收支登记!$G:$G,收支登记!$C:$C,"3",收支登记!$F:$F,收支统计!$A40) -> 0 | E40: =SUMIFS(收支登记!$G:$G,收支登记!$C:$C,"4",收支登记!$F:$F,收支统计!$A40) -> 0 | F40: =SUMIFS(收支登记!$G:$G,收支登记!$C:$C,"5",收支登记!$F:$F,收支统计!$A40) -> 0 | G40: =SUMIFS(收支登记!$G:$G,收支登记!$C:$C,"6",收支登记!$F:$F,收支统计!$A40) -> 0 | H40: =SUMIFS(收支登记!$G:$G,收支登记!$C:$C,"7",收支登记!$F:$F,收支统计!$A40) -> 0 | I40: =SUMIFS(收支登记!$G:$G,收支登记!$C:$C,"8",收支登记!$F:$F,收支统计!$A40) -> 0 | J40: =SUMIFS(收支登记!$G:$G,收支登记!$C:$C,"9",收支登记!$F:$F,收支统计!$A40) -> 0 | K40: =SUMIFS(收支登记!$G:$G,收支登记!$C:$C,"10",收支登记!$F:$F,收支统计!$A40) -> 0 | L40: =SUMIFS(收支登记!$G:$G,收支登记!$C:$C,"11",收支登记!$F:$F,收支统计!$A40) -> 0 | M40: =SUMIFS(收支登记!$G:$G,收支登记!$C:$C,"12",收支登记!$F:$F,收支统计!$A40) -> 0 | N40: =SUM(B40:M40) -> 0
B41: =SUMIFS(收支登记!$G:$G,收支登记!$C:$C,"1",收支登记!$F:$F,收支统计!$A41) -> 0 | C41: =SUMIFS(收支登记!$G:$G,收支登记!$C:$C,"2",收支登记!$F:$F,收支统计!$A41) -> 0 | D41: =SUMIFS(收支登记!$G:$G,收支登记!$C:$C,"3",收支登记!$F:$F,收支统计!$A41) -> 0 | E41: =SUMIFS(收支登记!$G:$G,收支登记!$C:$C,"4",收支登记!$F:$F,收支统计!$A41) -> 0 | F41: =SUMIFS(收支登记!$G:$G,收支登记!$C:$C,"5",收支登记!$F:$F,收支统计!$A41) -> 0 | G41: =SUMIFS(收支登记!$G:$G,收支登记!$C:$C,"6",收支登记!$F:$F,收支统计!$A41) -> 0 | H41: =SUMIFS(收支登记!$G:$G,收支登记!$C:$C,"7",收支登记!$F:$F,收支统计!$A41) -> 0 | I41: =SUMIFS(收支登记!$G:$G,收支登记!$C:$C,"8",收支登记!$F:$F,收支统计!$A41) -> 0 | J41: =SUMIFS(收支登记!$G:$G,收支登记!$C:$C,"9",收支登记!$F:$F,收支统计!$A41) -> 0 | K41: =SUMIFS(收支登记!$G:$G,收支登记!$C:$C,"10",收支登记!$F:$F,收支统计!$A41) -> 0 | L41: =SUMIFS(收支登记!$G:$G,收支登记!$C:$C,"11",收支登记!$F:$F,收支统计!$A41) -> 0 | M41: =SUMIFS(收支登记!$G:$G,收支登记!$C:$C,"12",收支登记!$F:$F,收支统计!$A41) -> 0 | N41: =SUM(B41:M41) -> 0
B42: =SUMIFS(收支登记!$G:$G,收支登记!$C:$C,"1",收支登记!$F:$F,收支统计!$A42) -> 0 | C42: =SUMIFS(收支登记!$G:$G,收支登记!$C:$C,"2",收支登记!$F:$F,收支统计!$A42) -> 0 | D42: =SUMIFS(收支登记!$G:$G,收支登记!$C:$C,"3",收支登记!$F:$F,收支统计!$A42) -> 0 | E42: =SUMIFS(收支登记!$G:$G,收支登记!$C:$C,"4",收支登记!$F:$F,收支统计!$A42) -> 0 | F42: =SUMIFS(收支登记!$G:$G,收支登记!$C:$C,"5",收支登记!$F:$F,收支统计!$A42) -> 0 | G42: =SUMIFS(收支登记!$G:$G,收支登记!$C:$C,"6",收支登记!$F:$F,收支统计!$A42) -> 0 | H42: =SUMIFS(收支登记!$G:$G,收支登记!$C:$C,"7",收支登记!$F:$F,收支统计!$A42) -> 0 | I42: =SUMIFS(收支登记!$G:$G,收支登记!$C:$C,"8",收支登记!$F:$F,收支统计!$A42) -> 0 | J42: =SUMIFS(收支登记!$G:$G,收支登记!$C:$C,"9",收支登记!$F:$F,收支统计!$A42) -> 0 | K42: =SUMIFS(收支登记!$G:$G,收支登记!$C:$C,"10",收支登记!$F:$F,收支统计!$A42) -> 0 | L42: =SUMIFS(收支登记!$G:$G,收支登记!$C:$C,"11",收支登记!$F:$F,收支统计!$A42) -> 0 | M42: =SUMIFS(收支登记!$G:$G,收支登记!$C:$C,"12",收支登记!$F:$F,收支统计!$A42) -> 0 | N42: =SUM(B42:M42) -> 0
B43: =SUMIFS(收支登记!$G:$G,收支登记!$C:$C,"1",收支登记!$F:$F,收支统计!$A43) -> 0 | C43: =SUMIFS(收支登记!$G:$G,收支登记!$C:$C,"2",收支登记!$F:$F,收支统计!$A43) -> 0 | D43: =SUMIFS(收支登记!$G:$G,收支登记!$C:$C,"3",收支登记!$F:$F,收支统计!$A43) -> 0 | E43: =SUMIFS(收支登记!$G:$G,收支登记!$C:$C,"4",收支登记!$F:$F,收支统计!$A43) -> 0 | F43: =SUMIFS(收支登记!$G:$G,收支登记!$C:$C,"5",收支登记!$F:$F,收支统计!$A43) -> 0 | G43: =SUMIFS(收支登记!$G:$G,收支登记!$C:$C,"6",收支登记!$F:$F,收支统计!$A43) -> 0 | H43: =SUMIFS(收支登记!$G:$G,收支登记!$C:$C,"7",收支登记!$F:$F,收支统计!$A43) -> 0 | I43: =SUMIFS(收支登记!$G:$G,收支登记!$C:$C,"8",收支登记!$F:$F,收支统计!$A43) -> 0 | J43: =SUMIFS(收支登记!$G:$G,收支登记!$C:$C,"9",收支登记!$F:$F,收支统计!$A43) -> 0 | K43: =SUMIFS(收支登记!$G:$G,收支登记!$C:$C,"10",收支登记!$F:$F,收支统计!$A43) -> 0 | L43: =SUMIFS(收支登记!$G:$G,收支登记!$C:$C,"11",收支登记!$F:$F,收支统计!$A43) -> 0 | M43: =SUMIFS(收支登记!$G:$G,收支登记!$C:$C,"12",收支登记!$F:$F,收支统计!$A43) -> 0 | N43: =SUM(B43:M43) -> 0
B44: =SUMIFS(收支登记!$G:$G,收支登记!$C:$C,"1",收支登记!$F:$F,收支统计!$A44) -> 0 | C44: =SUMIFS(收支登记!$G:$G,收支登记!$C:$C,"2",收支登记!$F:$F,收支统计!$A44) -> 0 | D44: =SUMIFS(收支登记!$G:$G,收支登记!$C:$C,"3",收支登记!$F:$F,收支统计!$A44) -> 0 | E44: =SUMIFS(收支登记!$G:$G,收支登记!$C:$C,"4",收支登记!$F:$F,收支统计!$A44) -> 0 | F44: =SUMIFS(收支登记!$G:$G,收支登记!$C:$C,"5",收支登记!$F:$F,收支统计!$A44) -> 0 | G44: =SUMIFS(收支登记!$G:$G,收支登记!$C:$C,"6",收支登记!$F:$F,收支统计!$A44) -> 0 | H44: =SUMIFS(收支登记!$G:$G,收支登记!$C:$C,"7",收支登记!$F:$F,收支统计!$A44) -> 0 | I44: =SUMIFS(收支登记!$G:$G,收支登记!$C:$C,"8",收支登记!$F:$F,收支统计!$A44) -> 0 | J44: =SUMIFS(收支登记!$G:$G,收支登记!$C:$C,"9",收支登记!$F:$F,收支统计!$A44) -> 0 | K44: =SUMIFS(收支登记!$G:$G,收支登记!$C:$C,"10",收支登记!$F:$F,收支统计!$A44) -> 0 | L44: =SUMIFS(收支登记!$G:$G,收支登记!$C:$C,"11",收支登记!$F:$F,收支统计!$A44) -> 0 | M44: =SUMIFS(收支登记!$G:$G,收支登记!$C:$C,"12",收支登记!$F:$F,收支统计!$A44) -> 0 | N44: =SUM(B44:M44) -> 0
A45: 收支合计 | B45: =SUM(B3:B44) -> 0 | C45: =SUM(C3:C44) -> 0 | D45: =SUM(D3:D44) -> 0 | E45: =SUM(E3:E44) -> 0 | F45: =SUM(F3:F44) -> 6000 | G45: =SUM(G3:G44) -> 0 | H45: =SUM(H3:H44) -> 0 | I45: =SUM(I3:I44) -> 0 | ... N45: =SUM(N3:N44) -> 6000

Sheet 参数设置
E1: 收支项
E2: 服饰鞋帽
E3: 理发
E4: 饰品/小物件
E5: 伙食费用
E6: 食材采购
E7: 零食
E8: 房贷
E9: 物管费
E10: 手机费
E11: 水费
E12: 电费
... E38: 红包

Sheet 使用说明
A1: 使用说明
A2: 1类目明细：根据平时收入支出的款项登记。
A3: 2收支登记：依次录入日期，收支项目，事项，类目，金额，收支项目和类目下拉菜单选择。收支项目是支出时，行变为灰色。支出金额都要加一个括号，表示负数。
A4: 3收支统计：该表自动生成，无需改动和输入。
